BEGIN:VCALENDAR
VERSION:2.0
PRODID:-//Springfield First - ECPv6.15.20//NONSGML v1.0//EN
CALSCALE:GREGORIAN
METHOD:PUBLISH
X-WR-CALNAME:Springfield First
X-ORIGINAL-URL:https://springfieldfirst.org
X-WR-CALDESC:Events for Springfield First
REFRESH-INTERVAL;VALUE=DURATION:PT1H
X-Robots-Tag:noindex
X-PUBLISHED-TTL:PT1H
BEGIN:VTIMEZONE
TZID:America/Chicago
BEGIN:DAYLIGHT
TZOFFSETFROM:-0600
TZOFFSETTO:-0500
TZNAME:CDT
DTSTART:20230312T080000
END:DAYLIGHT
BEGIN:STANDARD
TZOFFSETFROM:-0500
TZOFFSETTO:-0600
TZNAME:CST
DTSTART:20231105T070000
END:STANDARD
BEGIN:DAYLIGHT
TZOFFSETFROM:-0600
TZOFFSETTO:-0500
TZNAME:CDT
DTSTART:20240310T080000
END:DAYLIGHT
BEGIN:STANDARD
TZOFFSETFROM:-0500
TZOFFSETTO:-0600
TZNAME:CST
DTSTART:20241103T070000
END:STANDARD
BEGIN:DAYLIGHT
TZOFFSETFROM:-0600
TZOFFSETTO:-0500
TZNAME:CDT
DTSTART:20250309T080000
END:DAYLIGHT
BEGIN:STANDARD
TZOFFSETFROM:-0500
TZOFFSETTO:-0600
TZNAME:CST
DTSTART:20251102T070000
END:STANDARD
END:VTIMEZONE
BEGIN:VEVENT
DTSTART;TZID=America/Chicago:20240625T084500
DTEND;TZID=America/Chicago:20240625T120000
DTSTAMP:20260423T052041
CREATED:20240426T215142Z
LAST-MODIFIED:20240426T215142Z
UID:10000105-1719305100-1719316800@springfieldfirst.org
SUMMARY:Camp Firelight Vacation Bible School
DESCRIPTION:
URL:https://springfieldfirst.org/event/camp-firelight-vacation-bible-school/2024-06-25/
ATTACH;FMTTYPE=image/webp:https://springfieldfirst.org/wp-content/uploads/2024/04/Campfirelight2024_FeaturedImage.webp
END:VEVENT
BEGIN:VEVENT
DTSTART;TZID=America/Chicago:20240624T084500
DTEND;TZID=America/Chicago:20240624T120000
DTSTAMP:20260423T052041
CREATED:20240426T215142Z
LAST-MODIFIED:20240426T215142Z
UID:10000104-1719218700-1719230400@springfieldfirst.org
SUMMARY:Camp Firelight Vacation Bible School
DESCRIPTION:
URL:https://springfieldfirst.org/event/camp-firelight-vacation-bible-school/2024-06-24/
ATTACH;FMTTYPE=image/webp:https://springfieldfirst.org/wp-content/uploads/2024/04/Campfirelight2024_FeaturedImage.webp
END:VEVENT
BEGIN:VEVENT
DTSTART;TZID=America/Chicago:20240615T080000
DTEND;TZID=America/Chicago:20240615T170000
DTSTAMP:20260423T052041
CREATED:20240402T034635Z
LAST-MODIFIED:20240402T034948Z
UID:10000101-1718438400-1718470800@springfieldfirst.org
SUMMARY:Hope for the Journey Conference Simulcast
DESCRIPTION:Show Hope’s Hope for the Journey Conference is designed to equip and encourage parents and caregivers meeting the needs of children impacted by adoption and/or foster care. Bringing together teaching\, resources\, and practical experiences\, parents and caregivers (and the churches and organizations seeking to serve these children and families) will gain a deeper understanding of these children’s needs. \nWith new faces\, new stories\, and new insight\, the 2024 Hope for the Journey Conference will structurally mirror previous conferences with five high-level\, more focused learning modules as well as opportunities to go deeper on select topics within each module topic. We will also hear from families and individuals impacted by adoption and/or foster care—whether as parents or adult adoptees and foster care alumni. And finally\, the Hope for the Journey Conference will also continue to build on TBRI principles and how those principles intersect with our faith. \nCertificates of completion that adoptive and foster care families can submit to their respective agencies are available for continuing education credits. \nLearning Module 1: An Introduction to Trust-Based Relational Intervention (TBRI)\nLearning Module 2: Connecting Principles (1 Hour 15 Minutes)\nLearning Module 3: Empowering Principles\nLearning Module 4: Correcting Principles (1 Hour 30 Minutes)\nLearning Module 5: The Gospel + TBRI – (optional – may be cut short due to time constraints) \nRegistration costs $10. \nClick here to register
URL:https://springfieldfirst.org/event/hope-for-the-journey-conference-simulcast/
ATTACH;FMTTYPE=image/webp:https://springfieldfirst.org/wp-content/uploads/2024/04/HopefortheJourneyConference2024_2400_1260.webp
END:VEVENT
BEGIN:VEVENT
DTSTART;TZID=America/Chicago:20240614T173000
DTEND;TZID=America/Chicago:20240614T200000
DTSTAMP:20260423T052041
CREATED:20240523T150055Z
LAST-MODIFIED:20240523T150145Z
UID:10000109-1718386200-1718395200@springfieldfirst.org
SUMMARY:Men's Ministry Summer Cookout
DESCRIPTION:All men\, 13 years and over\, are invited to a cookout on Friday\, June 14\, from 5:30 to 8:00pm in the Pavilion (north parking lot). We will enjoy delicious hotdogs\, hamburgers\, sides\, and lawn games. Dinner will begin at 6:00. Join us for this evening of good food and even better fellowship! \nClick here to RSVP!
URL:https://springfieldfirst.org/event/mens-ministry-summer-cookout/
ATTACH;FMTTYPE=image/webp:https://springfieldfirst.org/wp-content/uploads/2024/05/Mens-Ministry-Summer-Cookout-June-2024-1200x630-1.webp
END:VEVENT
BEGIN:VEVENT
DTSTART;TZID=America/Chicago:20240509T183000
DTEND;TZID=America/Chicago:20240509T200000
DTSTAMP:20260423T052041
CREATED:20240330T035312Z
LAST-MODIFIED:20240402T200323Z
UID:10000099-1715279400-1715284800@springfieldfirst.org
SUMMARY:The Use of Money - Retirement
DESCRIPTION:Do You Have a Plan?\nDetermine your ‘Financial Independence Number’ and know you can retire comfortably.\nThis class will be led by a financial literacy teacher (not an estate planning attorney or CPA) \nClick here to register
URL:https://springfieldfirst.org/event/the-use-of-money-retirement/
ATTACH;FMTTYPE=image/webp:https://springfieldfirst.org/wp-content/uploads/2024/01/The-Use-of-Money.webp
END:VEVENT
BEGIN:VEVENT
DTSTART;TZID=America/Chicago:20240504T110000
DTEND;TZID=America/Chicago:20240504T140000
DTSTAMP:20260423T052041
CREATED:20240423T201819Z
LAST-MODIFIED:20240423T201833Z
UID:10000103-1714820400-1714831200@springfieldfirst.org
SUMMARY:Spring Fling
DESCRIPTION:A free event for the community. This event includes activities for all ages. Music\, food\, games\, and fun to enjoy!
URL:https://springfieldfirst.org/event/2024springfling/
ATTACH;FMTTYPE=image/webp:https://springfieldfirst.org/wp-content/uploads/2024/04/2024-Spring-Fling.webp
END:VEVENT
BEGIN:VEVENT
DTSTART;TZID=America/Chicago:20240502T190000
DTEND;TZID=America/Chicago:20240502T200000
DTSTAMP:20260423T052041
CREATED:20240308T034429Z
LAST-MODIFIED:20240429T162710Z
UID:10000093-1714676400-1714680000@springfieldfirst.org
SUMMARY:***Postponed*** Live Standup Clean Comedy Show
DESCRIPTION:The Comedy Night with Rik Roberts has been postponed until this fall. Information about the rescheduled date will be shared one all the details have been finalzied.Join us for a night full of laughs with comedian Rik Roberts! His show features clean comedy and is suitable for the entire family (6th grade and up). Pure Comedy Stress Buster!  \nWith over 20 yrs of stand-up comedy experience\, Rik delivers a 100% clean comedy show. Rik’s act is multi-dimensional. In addition to his stand-up routines\, he engages the audience with original comedy songs. You may even find yourself onstage with him! \nTickets are just $10 each. Register by April 29. \n*Childcare is available; registration required.
URL:https://springfieldfirst.org/event/live-standup-clean-comedy-show/
ATTACH;FMTTYPE=image/webp:https://springfieldfirst.org/wp-content/uploads/2024/03/LiveStandupComedyShow.webp
END:VEVENT
BEGIN:VEVENT
DTSTART;TZID=America/Chicago:20240430T190000
DTEND;TZID=America/Chicago:20240430T200000
DTSTAMP:20260423T052041
CREATED:20240330T055019Z
LAST-MODIFIED:20240331T044638Z
UID:10000098-1714503600-1714507200@springfieldfirst.org
SUMMARY:Transformed Within\, Impact Beyond
DESCRIPTION:Join us for a series of spiritual renewal services aimed at empowering us to become agents of God’s grace\, extending the influence of Christ beyond the walls of Springfield First. \nSpeakers:\n\n\nSunday\, April 28 – Bishop Jonathan Franklin\nPastor\, Teacher\, Author\, President of Springfield\nMinisterial Alliance \nMonday\, April 29 – Rev. Michael Whitaker\nPastor\, Church Planter\, Former Associate Pastor of\nSpringfield First \nTuesday\, April 30 – Chantel Corrie\nExecutive Director of Midwest Mission Distribution Center\,\nMember of Springfield First
URL:https://springfieldfirst.org/event/transformed-within-impact-beyond-4302024/
ATTACH;FMTTYPE=image/webp:https://springfieldfirst.org/wp-content/uploads/2024/03/Spring-Renewal-Services.webp
END:VEVENT
BEGIN:VEVENT
DTSTART;TZID=America/Chicago:20240429T190000
DTEND;TZID=America/Chicago:20240429T200000
DTSTAMP:20260423T052041
CREATED:20240330T054946Z
LAST-MODIFIED:20240331T044626Z
UID:10000097-1714417200-1714420800@springfieldfirst.org
SUMMARY:Transformed Within\, Impact Beyond
DESCRIPTION:Join us for a series of spiritual renewal services aimed at empowering us to become agents of God’s grace\, extending the influence of Christ beyond the walls of Springfield First. \nSpeakers:\n\n\nSunday\, April 28 – Bishop Jonathan Franklin\nPastor\, Teacher\, Author\, President of Springfield\nMinisterial Alliance \nMonday\, April 29 – Rev. Michael Whitaker\nPastor\, Church Planter\, Former Associate Pastor of\nSpringfield First \nTuesday\, April 30 – Chantel Corrie\nExecutive Director of Midwest Mission Distribution Center\,\nMember of Springfield First
URL:https://springfieldfirst.org/event/transformed-within-impact-beyond-4292024/
ATTACH;FMTTYPE=image/webp:https://springfieldfirst.org/wp-content/uploads/2024/03/Spring-Renewal-Services.webp
END:VEVENT
BEGIN:VEVENT
DTSTART;TZID=America/Chicago:20240428T190000
DTEND;TZID=America/Chicago:20240428T200000
DTSTAMP:20260423T052041
CREATED:20240330T054829Z
LAST-MODIFIED:20240331T044549Z
UID:10000096-1714330800-1714334400@springfieldfirst.org
SUMMARY:Transformed Within\, Impact Beyond
DESCRIPTION:Join us for a series of spiritual renewal services aimed at empowering us to become agents of God’s grace\, extending the influence of Christ beyond the walls of Springfield First. \nSpeakers:\n\n\nSunday\, April 28 – Bishop Jonathan Franklin\nPastor\, Teacher\, Author\, President of Springfield\nMinisterial Alliance \nMonday\, April 29 – Rev. Michael Whitaker\nPastor\, Church Planter\, Former Associate Pastor of\nSpringfield First \nTuesday\, April 30 – Chantel Corrie\nExecutive Director of Midwest Mission Distribution Center\,\nMember of Springfield First
URL:https://springfieldfirst.org/event/transformed-within-impact-beyond-4282024/
ATTACH;FMTTYPE=image/webp:https://springfieldfirst.org/wp-content/uploads/2024/03/Spring-Renewal-Services.webp
END:VEVENT
BEGIN:VEVENT
DTSTART;TZID=America/Chicago:20240426T180000
DTEND;TZID=America/Chicago:20240426T210000
DTSTAMP:20260423T052041
CREATED:20240331T203919Z
LAST-MODIFIED:20240331T204158Z
UID:10000100-1714154400-1714165200@springfieldfirst.org
SUMMARY:Pottery Paint Night
DESCRIPTION:Families and friends get the opportunity to spend time and do art together! This event is for all ages. There will be 2 different plate options to choose from to paint.  Prices will be $18 for an appetizer plate and $20 dollars for a dinner plate. Registration deadline is April 10th. \nClick here to register
URL:https://springfieldfirst.org/event/pottery-paint-night/
ATTACH;FMTTYPE=image/webp:https://springfieldfirst.org/wp-content/uploads/2024/03/PotteryNight.webp
END:VEVENT
BEGIN:VEVENT
DTSTART;TZID=America/Chicago:20240421T114500
DTEND;TZID=America/Chicago:20240421T124500
DTSTAMP:20260423T052041
CREATED:20240402T041451Z
LAST-MODIFIED:20240402T041451Z
UID:10000102-1713699900-1713703500@springfieldfirst.org
SUMMARY:Starting Point
DESCRIPTION:
URL:https://springfieldfirst.org/event/starting-point/
ATTACH;FMTTYPE=image/webp:https://springfieldfirst.org/wp-content/uploads/2024/04/StartingPointEventHeader.webp
END:VEVENT
BEGIN:VEVENT
DTSTART;TZID=America/Chicago:20240413T090000
DTEND;TZID=America/Chicago:20240413T130000
DTSTAMP:20260423T052041
CREATED:20240210T022140Z
LAST-MODIFIED:20250207T031519Z
UID:10000088-1712998800-1713013200@springfieldfirst.org
SUMMARY:15:10 Women's Conference
DESCRIPTION:Get ready to be inspired\, uplifted\, and transformed at the 15:10 Women’s Conference. This empowering event\, designed for women from 6th grade and up\, is a unique opportunity for you to deepen your faith\, connect with fellow believers\, and navigate the complexities of our world with strength and grace. \n15:10 Ministry is based on 1 Corinthians 15:10\, “But because God was so gracious\, so very generous\, here I am. And I’m not about to let His grace go to waste…” (MSG) \nThis conference will feature: \n\nLive worship music that will uplift your spirit.\nInspiring speakers sharing their personal journeys of faith.\nA community of sisters in Christ to encourage and support you.\n\nThis conference will be completely LIVE and will feature speakers and musicians from our surrounding area. \nChildcare is available; registration required. \nRegister by April 8. \nSpeakersChantel CorrieExecutive Director\, Midwest MissionDara BoseInternational #1\nBestselling AuthorDr. Glenna Schroeder-LeinHistorian & AuthorRev. Kathy HutchinsHistorian & AuthorKerri KrugerInternational #1\nBestselling AuthorRev. Margaret Ann JessupFounder & Executive Director\, Wooden It Be LovelyRev. Miriam SniderPastor\, Chatham UMCNatalie MoreyChildren’s & Youth Coordinator\, Chatham UMCSherri LeopoldFounder of WOW WarriorSydney PappasSpiritual Formation Leader
URL:https://springfieldfirst.org/event/20241510womensconference/
CATEGORIES:Women's Ministry
ATTACH;FMTTYPE=image/webp:https://springfieldfirst.org/wp-content/uploads/2024/02/1510-Womens-Conference-2024.webp
END:VEVENT
BEGIN:VEVENT
DTSTART;TZID=America/Chicago:20240331T103000
DTEND;TZID=America/Chicago:20240331T113000
DTSTAMP:20260423T052041
CREATED:20240308T035529Z
LAST-MODIFIED:20240308T040256Z
UID:10000095-1711881000-1711884600@springfieldfirst.org
SUMMARY:Easter at Springfield First
DESCRIPTION:
URL:https://springfieldfirst.org/event/easter-at-springfield-first/
ATTACH;FMTTYPE=image/webp:https://springfieldfirst.org/wp-content/uploads/2024/03/Easter2024_1200x630.webp
END:VEVENT
BEGIN:VEVENT
DTSTART;TZID=America/Chicago:20240331T090000
DTEND;TZID=America/Chicago:20240331T100000
DTSTAMP:20260423T052041
CREATED:20240308T040106Z
LAST-MODIFIED:20240308T040214Z
UID:10000094-1711875600-1711879200@springfieldfirst.org
SUMMARY:Easter at Springfield First
DESCRIPTION:
URL:https://springfieldfirst.org/event/easter-at-springfield-first-2/
ATTACH;FMTTYPE=image/webp:https://springfieldfirst.org/wp-content/uploads/2024/03/Easter2024_1200x630.webp
END:VEVENT
BEGIN:VEVENT
DTSTART;TZID=America/Chicago:20240329T190000
DTEND;TZID=America/Chicago:20240329T200000
DTSTAMP:20260423T052041
CREATED:20240121T052421Z
LAST-MODIFIED:20240306T151731Z
UID:10000080-1711738800-1711742400@springfieldfirst.org
SUMMARY:Good Friday
DESCRIPTION:This contemporary worship gathering will offer a meditation on the death of Jesus Christ on the cross. We will sing and hear a message about how Jesus gave Himself for the life of the world.
URL:https://springfieldfirst.org/event/good-friday/
ATTACH;FMTTYPE=image/webp:https://springfieldfirst.org/wp-content/uploads/2024/01/Good-Friday.webp
END:VEVENT
BEGIN:VEVENT
DTSTART;TZID=America/Chicago:20240328T190000
DTEND;TZID=America/Chicago:20240328T200000
DTSTAMP:20260423T052041
CREATED:20240121T052313Z
LAST-MODIFIED:20240306T151756Z
UID:10000079-1711652400-1711656000@springfieldfirst.org
SUMMARY:Maundy Thursday
DESCRIPTION:This traditional worship gathering recalls the final evening of Jesus with his disciples\, their shared meal\, and the "new commandment" given by Jesus before His death on a cross. We will share Holy Communion and reflect on the final events of the life of Jesus.
URL:https://springfieldfirst.org/event/maundy-thursday/
ATTACH;FMTTYPE=image/webp:https://springfieldfirst.org/wp-content/uploads/2024/01/Maundy-Thursday.webp
END:VEVENT
BEGIN:VEVENT
DTSTART;TZID=America/Chicago:20240327T174500
DTEND;TZID=America/Chicago:20240327T200000
DTSTAMP:20260423T052041
CREATED:20240210T043522Z
LAST-MODIFIED:20240210T043538Z
UID:10000074-1711561500-1711569600@springfieldfirst.org
SUMMARY:Connect Dinner and Small Groups
DESCRIPTION:On Wednesdays during Lent\, February 21 through March 27\, come and enjoy dinner with your church family at 5:45-6:30pm in the Community Life Center. Small groups will meet following the dinner. \nDinner for March 27 will be soup and grilled cheese. Free will offering will be received at dinner. Deadline to register for dinner is Monday\, March 25\, at noon. \nRSVP for DinnerJoin a Group
URL:https://springfieldfirst.org/event/connect-dinner-and-small-groups-2024-03-27/
ATTACH;FMTTYPE=image/webp:https://springfieldfirst.org/wp-content/uploads/2023/12/LentConnectDinnerEventHeader.webp
END:VEVENT
BEGIN:VEVENT
DTSTART;TZID=America/Chicago:20240322T183000
DTEND;TZID=America/Chicago:20240322T200000
DTSTAMP:20260423T052041
CREATED:20240306T153314Z
LAST-MODIFIED:20240306T153351Z
UID:10000091-1711132200-1711137600@springfieldfirst.org
SUMMARY:Magic with a Message
DESCRIPTION:This FamilyLife event will feature Richard Landry and Snowball performing “The Amazing Gospel” comedy magic program. \nA meal will be provided from 5:30 to 6:15. \nRegister today!
URL:https://springfieldfirst.org/event/magic-with-a-message/
ATTACH;FMTTYPE=image/webp:https://springfieldfirst.org/wp-content/uploads/2024/03/Magic-with-a-Message-2.webp
END:VEVENT
BEGIN:VEVENT
DTSTART;TZID=America/Chicago:20240320T174500
DTEND;TZID=America/Chicago:20240320T200000
DTSTAMP:20260423T052041
CREATED:20240210T043341Z
LAST-MODIFIED:20240210T043418Z
UID:10000073-1710956700-1710964800@springfieldfirst.org
SUMMARY:Connect Dinner and Small Groups
DESCRIPTION:On Wednesdays during Lent\, February 21 through March 27\, come and enjoy dinner with your church family at 5:45-6:30pm in the Community Life Center. Small groups will meet following the dinner. \nDinner for March 20 will be pizza and salad. Free will offering will be received at dinner. Deadline to register for dinner is Monday\, March 18\, at noon. \nRSVP for DinnerJoin a Group
URL:https://springfieldfirst.org/event/connect-dinner-and-small-groups-2024-03-20/
ATTACH;FMTTYPE=image/webp:https://springfieldfirst.org/wp-content/uploads/2023/12/LentConnectDinnerEventHeader.webp
END:VEVENT
BEGIN:VEVENT
DTSTART;TZID=America/Chicago:20240320T101500
DTEND;TZID=America/Chicago:20240320T150000
DTSTAMP:20260423T052041
CREATED:20240308T030137Z
LAST-MODIFIED:20240308T031426Z
UID:10000092-1710929700-1710946800@springfieldfirst.org
SUMMARY:Day Trip to The Tea Room
DESCRIPTION:We are taking a day trip Wednesday\, March 20\, to The Tea Room @ The Depot in Mackinaw\, IL. It is their Open House week which will feature many sales. Cost is $5 for gas. Lunch on your own. We will depart from the church at 10:15am. Following lunch\, we will shop/browse the depot\, then go across the street to Beth Anne’s Boutique for more shopping/browsing. Sign-up sheets are outside both worship areas. Black box for your payment is outside the sanctuary.
URL:https://springfieldfirst.org/event/tea-room-day-trip-03202024/
CATEGORIES:Senior Ministries
ATTACH;FMTTYPE=image/webp:https://springfieldfirst.org/wp-content/uploads/2023/12/SeniorMinistriesEventTempLogo.webp
END:VEVENT
BEGIN:VEVENT
DTSTART;TZID=America/Chicago:20240316T083000
DTEND;TZID=America/Chicago:20240316T170000
DTSTAMP:20260423T052041
CREATED:20240130T184819Z
LAST-MODIFIED:20240307T160827Z
UID:10000087-1710577800-1710608400@springfieldfirst.org
SUMMARY:Iron Sharpens Iron Men’s Conference
DESCRIPTION:We are excited to announce that the Iron Sharpens Iron Men’s Conference will be coming back to Springfield First. All men\, both young and old\, are encouraged to join other guys from Springfield and the entire central Illinois region for this incredible conference. This is your opportunity to join several hundred men from our area for worship and learning what it means to be a godly man in an increasingly ungodly world. A big step in the process of becoming godlier is surrounding yourself with other men who share the same commitment. \nClick here to registerThis Year’s Keynote SpeakersVirgil WalkerVirgil L. Walker serves as the Executive Director of Operations for G3 Ministries. Virgil served as the Discipleship Pastor at Westside Church in Omaha\, Nebraska for 6 years and is the co-host of the Just Thinking Podcast. Virgil has completed his Master of Business Administration (MBA) and is currently attending Midwestern Baptist Theological Seminary where he is working toward the completion of his Master of Divinity (MDiv). In addition\, Virgil is heavily involved in Jail Ministry\, side-walk ministry at Abortion Clinics\, and Street Evangelism. Virgil and his wife Tomeka have been married for 25 years and have three children. \nChris HarperChris Harper loves his wife\, four children\, books\, basketball\, movies\, and 90’s hip-hop. King Jesus is his Savior\, and Andrew (Peter’s brother) is his hero. Chris holds a Master’s Degree from Dallas Theological Seminary and is currently finishing his Doctorate at Southwestern Baptist Theological Seminary SWBTS. Chris’ academic pursuits center on the “father as chief priest of his home.” Chris is convinced that the most critical need of the church today is men\, bold men\, men willing to lead their homes and serve the church. Chris has been at the forefront of engaging culture for Christ in a winsome way; he believes hospitality is the new evangelism and that art\, music\, community\, and commerce are the most powerful mediums for gospel witness. \nClick here to register
URL:https://springfieldfirst.org/event/isi2024/
ATTACH;FMTTYPE=image/webp:https://springfieldfirst.org/wp-content/uploads/2024/01/2024ISIEventHeader2.webp
END:VEVENT
BEGIN:VEVENT
DTSTART;TZID=America/Chicago:20240313T174500
DTEND;TZID=America/Chicago:20240313T200000
DTSTAMP:20260423T052041
CREATED:20240210T043230Z
LAST-MODIFIED:20240210T043242Z
UID:10000072-1710351900-1710360000@springfieldfirst.org
SUMMARY:Connect Dinner and Small Groups
DESCRIPTION:On Wednesdays during Lent\, February 21 through March 27\, come and enjoy dinner with your church family at 5:45-6:30pm in the Community Life Center. Small groups will meet following the dinner. \nDinner for March 13 will be tacos. Free will offering will be received at dinner. Deadline to register for dinner is Monday\, March 11\, at noon. \nRSVP for DinnerJoin a Group
URL:https://springfieldfirst.org/event/connect-dinner-and-small-groups-2024-03-13/
ATTACH;FMTTYPE=image/webp:https://springfieldfirst.org/wp-content/uploads/2023/12/LentConnectDinnerEventHeader.webp
END:VEVENT
BEGIN:VEVENT
DTSTART;TZID=America/Chicago:20240307T183000
DTEND;TZID=America/Chicago:20240307T200000
DTSTAMP:20260423T052041
CREATED:20240219T015605Z
LAST-MODIFIED:20240307T030917Z
UID:10000090-1709836200-1709841600@springfieldfirst.org
SUMMARY:***POSTPONED*** The Use of Money – Financial Self Defense
DESCRIPTION:The Use of Money class for Thursday\, March 7 is being postponed.\nWe apologize for any inconvenience.You’re not to young to prepare for a financially successful future. \nThis class will be led by a financial literacy teacher (not an estate planning attorney or CPA) and will meet in Room 5. \nClick here to register
URL:https://springfieldfirst.org/event/the-use-of-money-financial-self-defense/
ATTACH;FMTTYPE=image/webp:https://springfieldfirst.org/wp-content/uploads/2024/01/The-Use-of-Money.webp
END:VEVENT
BEGIN:VEVENT
DTSTART;TZID=America/Chicago:20240306T174500
DTEND;TZID=America/Chicago:20240306T200000
DTSTAMP:20260423T052041
CREATED:20240210T043110Z
LAST-MODIFIED:20240302T023127Z
UID:10000071-1709747100-1709755200@springfieldfirst.org
SUMMARY:Connect Dinner and Small Groups
DESCRIPTION:On Wednesdays during Lent\, February 21 through March 27\, come and enjoy dinner with your church family at 5:45-6:30pm in the Community Life Center. Small groups will meet following the dinner. \nDinner for March 6 will be chili\, with both meat and vegetarian options. Free will offering will be received at dinner. Deadline to register for dinner is Monday\, March 4\, at noon. \nRSVP for DinnerJoin a Group
URL:https://springfieldfirst.org/event/connect-dinner-and-small-groups-2024-03-06/
ATTACH;FMTTYPE=image/webp:https://springfieldfirst.org/wp-content/uploads/2023/12/LentConnectDinnerEventHeader.webp
END:VEVENT
BEGIN:VEVENT
DTSTART;TZID=America/Chicago:20240228T174500
DTEND;TZID=America/Chicago:20240228T200000
DTSTAMP:20260423T052041
CREATED:20240210T041916Z
LAST-MODIFIED:20240210T042452Z
UID:10000070-1709142300-1709150400@springfieldfirst.org
SUMMARY:Connect Dinner and Small Groups
DESCRIPTION:On Wednesdays during Lent\, February 21 through March 27\, come and enjoy dinner with your church family at 5:45-6:30pm in the Community Life Center. Small groups will meet following the dinner. \nDinner for February 28 will be sloppy joes. Free will offering will be received at dinner. Deadline to register for dinner is Monday\, February 26\, at noon. \nRSVP for DinnerJoin a Group
URL:https://springfieldfirst.org/event/connect-dinner-and-small-groups-2024-02-28/
ATTACH;FMTTYPE=image/webp:https://springfieldfirst.org/wp-content/uploads/2023/12/LentConnectDinnerEventHeader.webp
END:VEVENT
BEGIN:VEVENT
DTSTART;TZID=America/Chicago:20240225T170000
DTEND;TZID=America/Chicago:20240225T190000
DTSTAMP:20260423T052041
CREATED:20231207T171211Z
LAST-MODIFIED:20240126T181439Z
UID:10000086-1708880400-1708887600@springfieldfirst.org
SUMMARY:Youth Group
DESCRIPTION:Looking for a fun and engaging place to be with other 6th-12th graders? Join us for StudentLife every Sunday night during the school year from 5:00 to 7:00 PM. Worship\, dinner\, interactive teaching\, games\, and small groups make it the best way for students to spend their Sunday nights! Invite a friend to join you and meet us in The StudentLife Room.
URL:https://springfieldfirst.org/event/youth-group/2024-02-25/
CATEGORIES:StudentLife
ATTACH;FMTTYPE=image/webp:https://springfieldfirst.org/wp-content/uploads/2023/12/StudentLifeEventTempLogo.webp
END:VEVENT
BEGIN:VEVENT
DTSTART;TZID=America/Chicago:20240222T183000
DTEND;TZID=America/Chicago:20240222T200000
DTSTAMP:20260423T052041
CREATED:20240219T015359Z
LAST-MODIFIED:20240219T221119Z
UID:10000089-1708626600-1708632000@springfieldfirst.org
SUMMARY:The Use of Money – Social Security & Medicare
DESCRIPTION:Calculate your “financial independence number” that will allow you to live comfortably in retirement. \nThis class will be led by a financial literacy teacher (not an estate planning attorney or CPA) and will be meeting in Room 8. \nClick here to register
URL:https://springfieldfirst.org/event/the-use-of-money-social-security-medicare/
ATTACH;FMTTYPE=image/webp:https://springfieldfirst.org/wp-content/uploads/2024/01/The-Use-of-Money.webp
END:VEVENT
BEGIN:VEVENT
DTSTART;TZID=America/Chicago:20240221T174500
DTEND;TZID=America/Chicago:20240221T200000
DTSTAMP:20260423T052041
CREATED:20240210T042504Z
LAST-MODIFIED:20240210T042525Z
UID:10000069-1708537500-1708545600@springfieldfirst.org
SUMMARY:Connect Dinner and Small Groups
DESCRIPTION:On Wednesdays during Lent\, February 21 through March 27\, come and enjoy dinner with your church family at 5:45-6:30pm in the Community Life Center. Small groups will meet following the dinner. \nDinner for February 21 will be pizza and salad. Free will offering will be received at dinner. Deadline to register for dinner is Monday\, February 19\, at noon. \nRSVP for DinnerJoin a Group
URL:https://springfieldfirst.org/event/connect-dinner-and-small-groups-2024-02-21/
ATTACH;FMTTYPE=image/webp:https://springfieldfirst.org/wp-content/uploads/2023/12/LentConnectDinnerEventHeader.webp
END:VEVENT
BEGIN:VEVENT
DTSTART;TZID=America/Chicago:20240218T170000
DTEND;TZID=America/Chicago:20240218T190000
DTSTAMP:20260423T052041
CREATED:20231207T171211Z
LAST-MODIFIED:20240126T181439Z
UID:10000085-1708275600-1708282800@springfieldfirst.org
SUMMARY:Youth Group
DESCRIPTION:Looking for a fun and engaging place to be with other 6th-12th graders? Join us for StudentLife every Sunday night during the school year from 5:00 to 7:00 PM. Worship\, dinner\, interactive teaching\, games\, and small groups make it the best way for students to spend their Sunday nights! Invite a friend to join you and meet us in The StudentLife Room.
URL:https://springfieldfirst.org/event/youth-group/2024-02-18/
CATEGORIES:StudentLife
ATTACH;FMTTYPE=image/webp:https://springfieldfirst.org/wp-content/uploads/2023/12/StudentLifeEventTempLogo.webp
END:VEVENT
END:VCALENDAR